BEGIN:VCALENDAR
VERSION:2.0
PRODID:-//Eventin//Event Calendar//EN
CALSCALE:GREGORIAN
METHOD:PUBLISH
BEGIN:VEVENT
UID:7dd459ec7f87c32e0dab29f9bf249462@www.cof-dalmatiner.de
SUMMARY:Erste Hilfe für Hunde
DESCRIPTION:Ein Notfall kommt selten angekündigt. Oft sind es nur Sekunden
 \, in denen sich entscheidet\, ob aus Unsicherheit ruhiges Handeln wird. Ge
 nau hier setzt der Erste-Hilfe-Kurs an – mit dem Ziel\, Wissen in Sicher
 heit zu verwandeln.\nIn einer ruhigen\, wertschätzenden Lernatmosphäre wi
 rd vermittelt\, was in kritischen Situationen wirklich zählt. Theorie bild
 et dabei das Fundament\, doch der Schwerpunkt liegt klar auf der Praxis: r
 eale Abläufe\, nachvollziehbare Handgriffe und ein strukturierter Umgang m
 it Stresssituationen. So entsteht Handlungssicherheit – nicht aus Angst\,
  sondern aus Verständnis und Erfahrung.\nBesonderes Augenmerk gilt dem be
 sonnenen Handeln. Denn Erste Hilfe bedeutet nicht nur schnelles Reagieren\,
  sondern auch das richtige Maß an Ruhe\, Einschätzung und Klarheit. Genau
  diese Balance wird Schritt für Schritt erlebbar gemacht.\nEin oft untersc
 hätzter\, jedoch äußerst wichtiger Bestandteil des Kurses widmet sich de
 n rechtlichen und versicherungstechnischen Aspekten. Wer haftet wann? Welc
 he Absicherung greift in welcher Situation? Und wie sehen die tatsächliche
 n Rechtslagen aus? Ein Thema\, das regelmäßig überrascht – weil sich p
 ersönliche Überzeugungen und gängige Annahmen nicht selten deutlich von 
 der Realität der Rechtsprechung unterscheiden. Sachlich\, verständlich un
 d fundiert werden diese Fragen eingeordnet und aufgeklärt.\nDieser Kurs st
 eht für Erfahrung\, Fachkompetenz und einen verantwortungsvollen Blick auf
  das Ganze – medizinisch\, praktisch und rechtlich. Eine Einladung\, vorb
 ereitet zu sein\, ohne Angst. Und ein Angebot an all jene\, die im Ernstfal
 l nicht nur helfen wollen\, sondern es auch sicher und verantwortungsvoll k
 önnen. 🐾\nEURE HUND SIND HERZLICH WILLKOMMEN!\nÜbernachtung gefällig
 st\, Wohnmobil? Camper? Kein Problem!\nFür den Aufenthalt stehen verschied
 ene Zimmer- und Übernachtungskategorien zur Auswahl. Alle Preise versteh
 en sich inklusive Frühstück\, WLAN und Parkplatz. Ebenerdige Zimmer sind
  ebenfalls verfügbar. Für BARF-Ernährung besteht selbstverständlich die
  Möglichkeit\, die Nahrung gekühlt aufzubewahren.\nUnd unsere Vierbeiner?
 \nAuch die vierbeinigen Begleiter sollen den Aufenthalt in vollen Zügen ge
 nießen. Zum Hotel gehört ein großzügiger Hundeauslauf mit Schwimmteich
 \, sicher und hoch umzäunt\, sodass freie Bewegung und unbeschwertes Spie
 len möglich sind.\nDarüber hinaus öffnet sich in der Hede\, etwa 1\,5 
 Kilometer vom Hof entfernt\, ein besonderes Naturareal: drei Teiche\, eing
 ebettet in rund einen Hektar Wald- und Wiesenlandschaft. Ein Ort\, der Rau
 m für Entspannung\, Bewegung und natürliche Auslastung bietet – ruhig\,
  weitläufig und naturnah.\nDie Nutzung dieser Auslaufflächen steht koste
 nfrei zur Verfügung und ergänzt das Angebot um einen wertvollen Rückzugs
 - und Erlebnisraum für Hunde\, die Freiheit ebenso schätzen wie Sicherhei
 t.
LOCATION:Landhotel Baumanns Hof\, Kuppendorfer Str. 2\, 27245 Kirchdorf
DTSTAMP:20260423T110615Z
DTSTART:20260425T070000Z
DTEND:20260425T150000Z
END:VEVENT
END:VCALENDAR
